BEGIN:VCALENDAR
VERSION:2.0
PRODID:-//Kent Vietnamese Bible Church - ECPv6.15.16.1//NONSGML v1.0//EN
CALSCALE:GREGORIAN
METHOD:PUBLISH
X-WR-CALNAME:Kent Vietnamese Bible Church
X-ORIGINAL-URL:https://hoithanhkent.org
X-WR-CALDESC:Events for Kent Vietnamese Bible Church
REFRESH-INTERVAL;VALUE=DURATION:PT1H
X-Robots-Tag:noindex
X-PUBLISHED-TTL:PT1H
BEGIN:VTIMEZONE
TZID:America/Los_Angeles
BEGIN:DAYLIGHT
TZOFFSETFROM:-0800
TZOFFSETTO:-0700
TZNAME:PDT
DTSTART:20180311T100000
END:DAYLIGHT
BEGIN:STANDARD
TZOFFSETFROM:-0700
TZOFFSETTO:-0800
TZNAME:PST
DTSTART:20181104T090000
END:STANDARD
BEGIN:DAYLIGHT
TZOFFSETFROM:-0800
TZOFFSETTO:-0700
TZNAME:PDT
DTSTART:20190310T100000
END:DAYLIGHT
BEGIN:STANDARD
TZOFFSETFROM:-0700
TZOFFSETTO:-0800
TZNAME:PST
DTSTART:20191103T090000
END:STANDARD
BEGIN:DAYLIGHT
TZOFFSETFROM:-0800
TZOFFSETTO:-0700
TZNAME:PDT
DTSTART:20200308T100000
END:DAYLIGHT
BEGIN:STANDARD
TZOFFSETFROM:-0700
TZOFFSETTO:-0800
TZNAME:PST
DTSTART:20201101T090000
END:STANDARD
BEGIN:DAYLIGHT
TZOFFSETFROM:-0800
TZOFFSETTO:-0700
TZNAME:PDT
DTSTART:20210314T100000
END:DAYLIGHT
BEGIN:STANDARD
TZOFFSETFROM:-0700
TZOFFSETTO:-0800
TZNAME:PST
DTSTART:20211107T090000
END:STANDARD
BEGIN:DAYLIGHT
TZOFFSETFROM:-0800
TZOFFSETTO:-0700
TZNAME:PDT
DTSTART:20220313T100000
END:DAYLIGHT
BEGIN:STANDARD
TZOFFSETFROM:-0700
TZOFFSETTO:-0800
TZNAME:PST
DTSTART:20221106T090000
END:STANDARD
BEGIN:DAYLIGHT
TZOFFSETFROM:-0800
TZOFFSETTO:-0700
TZNAME:PDT
DTSTART:20230312T100000
END:DAYLIGHT
BEGIN:STANDARD
TZOFFSETFROM:-0700
TZOFFSETTO:-0800
TZNAME:PST
DTSTART:20231105T090000
END:STANDARD
END:VTIMEZONE
BEGIN:VEVENT
DTSTART;TZID=America/Los_Angeles:20221017T080000
DTEND;TZID=America/Los_Angeles:20221017T170000
DTSTAMP:20260424T082936
CREATED:20221018T021306Z
LAST-MODIFIED:20221018T021306Z
UID:4232-1665993600-1666026000@hoithanhkent.org
SUMMARY:Tri Ân Quí Đầy Tớ Chúa (Pastor Appreciation Day)
DESCRIPTION:NGÀY TRI ƠN ĐẦY TỚ CHÚA \nHT Kent giữ truyên thống tốt đẹp từ nhiều năm qua\, sẽ tổ chức ngày Tri Ơn Quý Đầy Tớ Chúa vào CN tuần sau 10/23/2022.\nXin QV hiện diện đông đủ. Hội thánh sẽ có buổi ăn thông công dưới hình thức potluck sau giờ nhóm.
URL:https://hoithanhkent.org/event/tri-an-qui-day-to-chua-pastor-appreciation-day/
END:VEVENT
BEGIN:VEVENT
DTSTART;TZID=America/Los_Angeles:20220924T090000
DTEND;TZID=America/Los_Angeles:20220925T140000
DTSTAMP:20260424T082936
CREATED:20220920T231031Z
LAST-MODIFIED:20220920T231031Z
UID:4150-1664010000-1664114400@hoithanhkent.org
SUMMARY:HỘI ĐỒNG LỬA THIÊNG - DIVINE FIRE CONFERENCE 2022
DESCRIPTION:
URL:https://hoithanhkent.org/event/hoi-dong-lua-thieng-divine-fire-conference-2022/
LOCATION:SEATTLE VIETNAMESE CHRISTIANS CHURCH\, 157 SW 116th St\, Seattle\, WA\, 98146\, United States
END:VEVENT
BEGIN:VEVENT
DTSTART;TZID=America/Los_Angeles:20210509T100000
DTEND;TZID=America/Los_Angeles:20210509T120000
DTSTAMP:20260424T082936
CREATED:20210502T215500Z
LAST-MODIFIED:20210502T220408Z
UID:2735-1620554400-1620561600@hoithanhkent.org
SUMMARY:MOTHER'S DAY CELEBRATION 5-9-2021
DESCRIPTION:HT Kent kính-mời toàn-thể con dân Chúa đến với HT ngày Chúa-nhựt tuần tới 5-09-2021 để cùng Tham-dự Lễ Vinh-Danh quí Bà Mẹ.\nHT sẽ bắt đầu nhóm như thường-lệ lúc 10:00 sáng. \nSau buổi thờ-phượng sẽ có bửa tiệc thông-công. \nXin QV sắp-xếp để tham-dự đông đủ.
URL:https://hoithanhkent.org/event/mothers-day-celebration-5-9-2021/
END:VEVENT
BEGIN:VEVENT
DTSTART;TZID=America/Los_Angeles:20210404T100000
DTEND;TZID=America/Los_Angeles:20210404T110000
DTSTAMP:20260424T082936
CREATED:20210327T123407Z
LAST-MODIFIED:20210327T123407Z
UID:2626-1617530400-1617534000@hoithanhkent.org
SUMMARY:LỄ KỸ-NIỆM CHÚA GIÊ-XU PHỤC SINH
DESCRIPTION:Kính thưa Quí Con Dân Chúa; \nHội-thánh Kent sẽ tổ chức LỄ KỶ NIỆM CỨU CHÚA GIÊ-XU PHỤC-SINH  vào lúc 10 giờ sáng Chúa-nhựt ngày 04 tháng 4 năm 2021 tại nhà thờ. \nDự trù sẽ có buổi ăn trưa thông-công ngay sau giờ nhóm.\nXin Quí Ông Bà cố gắng đến tham dự buổi lể đông đủ.
URL:https://hoithanhkent.org/event/le-ky-niem-chua-gie-xu-phuc-sinh/
END:VEVENT
BEGIN:VEVENT
DTSTART;TZID=America/Los_Angeles:20210402T190000
DTEND;TZID=America/Los_Angeles:20210402T200000
DTSTAMP:20260424T082936
CREATED:20210327T122056Z
LAST-MODIFIED:20210327T123445Z
UID:2622-1617390000-1617393600@hoithanhkent.org
SUMMARY:LỄ KỶ NIỆM CỨU CHÚA GIÊ-XU CHỊU THƯƠNG KHÓ
DESCRIPTION:Kính thưa Quí Con Dân Chúa; \nHội-thánh Kent sẽ tổ chức LỄ KỶ NIỆM CỨU CHÚA GIÊ-XU CHỊU THƯƠNG KHÓ  vào lúc 7 giờ tối ngày thứ Sáu 02 tháng 4 năm 2021 tại nhà thờ.\nXin Quí Ông Bà cố gắng đến tham dự buổi lể đông đủ.
URL:https://hoithanhkent.org/event/chuong-trinh-le-ky-niem-cuu-chua-gie-xu-chiu-thuong-kho/
END:VEVENT
BEGIN:VEVENT
DTSTART;VALUE=DATE:20200710
DTEND;VALUE=DATE:20200713
DTSTAMP:20260424T082936
CREATED:20200102T010729Z
LAST-MODIFIED:20200102T010729Z
UID:1175-1594339200-1594598399@hoithanhkent.org
SUMMARY:Trại Gia-đình / Family Camp
DESCRIPTION:
URL:https://hoithanhkent.org/event/trai-gia-dinh-family-camp/
LOCATION:Camp Hoskins – Fort Flagler State Park
END:VEVENT
BEGIN:VEVENT
DTSTART;TZID=America/Los_Angeles:20200202T120000
DTEND;TZID=America/Los_Angeles:20200202T123000
DTSTAMP:20260424T082936
CREATED:20200102T011348Z
LAST-MODIFIED:20200102T011615Z
UID:1178-1580644800-1580646600@hoithanhkent.org
SUMMARY:Hội Đồng Thường Niên / Annual Report Representation
DESCRIPTION:
URL:https://hoithanhkent.org/event/hoi-dong-thuong-nien-annual-report/
END:VEVENT
BEGIN:VEVENT
DTSTART;VALUE=DATE:20200126
DTEND;VALUE=DATE:20200127
DTSTAMP:20260424T082936
CREATED:20200102T011525Z
LAST-MODIFIED:20200105T160835Z
UID:1180-1579996800-1580083199@hoithanhkent.org
SUMMARY:Nộp Bản Tường Trình / Annual Report Due
DESCRIPTION:
URL:https://hoithanhkent.org/event/nop-ban-tuong-trinh-annual-report/
END:VEVENT
BEGIN:VEVENT
DTSTART;TZID=America/Los_Angeles:20200125T173000
DTEND;TZID=America/Los_Angeles:20200125T194500
DTSTAMP:20260424T082936
CREATED:20200102T005500Z
LAST-MODIFIED:20200102T005500Z
UID:1168-1579973400-1579981500@hoithanhkent.org
SUMMARY:Chương Trình Mừng Xuân Kỷ Hợi / Tet Celebration
DESCRIPTION:
URL:https://hoithanhkent.org/event/chuong-trinh-mung-xuan-ky-hoi-tet-celebration/
END:VEVENT
BEGIN:VEVENT
DTSTART;TZID=America/Los_Angeles:20200124T190000
DTEND;TZID=America/Los_Angeles:20200124T210000
DTSTAMP:20260424T082936
CREATED:20200102T005639Z
LAST-MODIFIED:20200102T010035Z
UID:1170-1579892400-1579899600@hoithanhkent.org
SUMMARY:Tổng Dợt Tết / Tet Rehearsal
DESCRIPTION:
URL:https://hoithanhkent.org/event/tong-dot-tet-tet-rehearsal/
END:VEVENT
BEGIN:VEVENT
DTSTART;TZID=America/Los_Angeles:20200119T130000
DTEND;TZID=America/Los_Angeles:20200119T143000
DTSTAMP:20260424T082936
CREATED:20200102T005944Z
LAST-MODIFIED:20200102T005944Z
UID:1172-1579438800-1579444200@hoithanhkent.org
SUMMARY:Họp BCH / Decons meeting
DESCRIPTION:
URL:https://hoithanhkent.org/event/hop-bch-decons-meeting/
END:VEVENT
BEGIN:VEVENT
DTSTART;VALUE=DATE:20200112
DTEND;VALUE=DATE:20200113
DTSTAMP:20260424T082936
CREATED:20200105T033450Z
LAST-MODIFIED:20200106T032554Z
UID:1189-1578787200-1578873599@hoithanhkent.org
SUMMARY:Nộp Sổ Sách / Budget Report Due
DESCRIPTION:
URL:https://hoithanhkent.org/event/nop-so-sach-budget-report-due/
END:VEVENT
BEGIN:VEVENT
DTSTART;TZID=America/Los_Angeles:20200104T090000
DTEND;TZID=America/Los_Angeles:20200104T160000
DTSTAMP:20260424T082936
CREATED:20200102T003550Z
LAST-MODIFIED:20200102T003550Z
UID:1162-1578128400-1578153600@hoithanhkent.org
SUMMARY:Tu Sửa Phòng Học
DESCRIPTION:
URL:https://hoithanhkent.org/event/tu-sua-phong-hoc/
END:VEVENT
BEGIN:VEVENT
DTSTART;TZID=America/Los_Angeles:20200101T190000
DTEND;TZID=America/Los_Angeles:20200101T200000
DTSTAMP:20260424T082936
CREATED:20200102T003358Z
LAST-MODIFIED:20200102T010146Z
UID:1160-1577905200-1577908800@hoithanhkent.org
SUMMARY:Cầu Nguyện Đầu Năm / New Year Prayer
DESCRIPTION:
URL:https://hoithanhkent.org/event/cau-nguyen-dau-nam/
END:VEVENT
BEGIN:VEVENT
DTSTART;TZID=America/Los_Angeles:20191118T080000
DTEND;TZID=America/Los_Angeles:20191118T170000
DTSTAMP:20260424T082936
CREATED:20191119T074517Z
LAST-MODIFIED:20191121T061355Z
UID:967-1574064000-1574096400@hoithanhkent.org
SUMMARY:7 BƯỚC THĂNG TIẾN CỦA CHẤP SỰ
DESCRIPTION:Go back  Your message has been sent\n\n\n				\n					\n					\n				\n			\n\n\n\nName(required)\n\n \n			\n				\n					\n						\n						\n						\n					\n					Warning\n				\n				\n			 \n	\n\n\nEmail(required)\n\n \n			\n				\n					\n						\n						\n						\n					\n					Warning\n				\n				\n			 \n	\n\n\nWebsite\n\n \n			\n				\n					\n						\n						\n						\n					\n					Warning\n				\n				\n			 \n	\n\n\nMessage\n\n \n			\n				\n					\n						\n						\n						\n					\n					Warning\n				\n				\n			\n	\n	\nWarning.\n				\n				\n				\n					\n				\n						Submit		\n		\n		\n	 \nΔ \n\n\nGo back  Your message has been sent\n\n\n				\n					\n					\n				\n			\n\n\n\nName(required)\n\n \n			\n				\n					\n						\n						\n						\n					\n					Warning\n				\n				\n			 \n	\n\n\nEmail(required)\n\n \n			\n				\n					\n						\n						\n						\n					\n					Warning\n				\n				\n			 \n	\n\n\nWebsite\n\n \n			\n				\n					\n						\n						\n						\n					\n					Warning\n				\n				\n			 \n	\n\n\nMessage\n\n \n			\n				\n					\n						\n						\n						\n					\n					Warning\n				\n				\n			\n	\n	\nWarning.\n				\n				\n				\n					\n				\n						Submit		\n		\n		\n	 \nΔ \n\nhttps://hoithanhkent.org/wp-content/uploads/2019/11/7-BƯỚC-THĂNG-TIẾN-CỦA-CHẤP-SỰ.mp3
URL:https://hoithanhkent.org/event/967/
END:VEVENT
BEGIN:VEVENT
DTSTART;TZID=America/Los_Angeles:20191117T080000
DTEND;TZID=America/Los_Angeles:20191117T170000
DTSTAMP:20260424T082936
CREATED:20191118T060321Z
LAST-MODIFIED:20191118T060438Z
UID:939-1573977600-1574010000@hoithanhkent.org
SUMMARY:7 BƯỚC THĂNG TIẾN CỦA CHẤP SỰ
DESCRIPTION:https://hoithanhkent.org/wp-content/uploads/2019/11/7-buoc-thang-tien-cua-chap-su.mp3
URL:https://hoithanhkent.org/event/939/
END:VEVENT
BEGIN:VEVENT
DTSTART;TZID=America/Los_Angeles:20191117T080000
DTEND;TZID=America/Los_Angeles:20191117T170000
DTSTAMP:20260424T082936
CREATED:20191118T055621Z
LAST-MODIFIED:20191118T055621Z
UID:936-1573977600-1574010000@hoithanhkent.org
SUMMARY:
DESCRIPTION:https://hoithanhkent.org/wp-content/uploads/2019/11/7-buoc-thang-tien-cua-chap-su-1.mp3\n\nGo back  Your message has been sent\n\n\n				\n					\n					\n				\n			\n\n\n\nName(required)\n\n \n			\n				\n					\n						\n						\n						\n					\n					Warning\n				\n				\n			 \n	\n\n\nEmail(required)\n\n \n			\n				\n					\n						\n						\n						\n					\n					Warning\n				\n				\n			 \n	\n\n\nWebsite\n\n \n			\n				\n					\n						\n						\n						\n					\n					Warning\n				\n				\n			 \n	\n\n\nMessage\n\n \n			\n				\n					\n						\n						\n						\n					\n					Warning\n				\n				\n			\n	\n	\nWarning.\n				\n				\n				\n					\n				\n						Submit		\n		\n		\n	 \nΔ \n\n\nGo back  Your message has been sent\n\n\n				\n					\n					\n				\n			\n\n\n\nName(required)\n\n \n			\n				\n					\n						\n						\n						\n					\n					Warning\n				\n				\n			 \n	\n\n\nEmail(required)\n\n \n			\n				\n					\n						\n						\n						\n					\n					Warning\n				\n				\n			 \n	\n\n\nWebsite\n\n \n			\n				\n					\n						\n						\n						\n					\n					Warning\n				\n				\n			 \n	\n\n\nMessage\n\n \n			\n				\n					\n						\n						\n						\n					\n					Warning\n				\n				\n			\n	\n	\nWarning.\n				\n				\n				\n					\n				\n						Submit		\n		\n		\n	 \nΔ
URL:https://hoithanhkent.org/event/936/
END:VEVENT
END:VCALENDAR