BEGIN:VCALENDAR
VERSION:2.0
PRODID:-//Kent Vietnamese Bible Church - ECPv6.15.16.1//NONSGML v1.0//EN
CALSCALE:GREGORIAN
METHOD:PUBLISH
X-ORIGINAL-URL:https://hoithanhkent.org
X-WR-CALDESC:Events for Kent Vietnamese Bible Church
REFRESH-INTERVAL;VALUE=DURATION:PT1H
X-Robots-Tag:noindex
X-PUBLISHED-TTL:PT1H
BEGIN:VTIMEZONE
TZID:America/Los_Angeles
BEGIN:DAYLIGHT
TZOFFSETFROM:-0800
TZOFFSETTO:-0700
TZNAME:PDT
DTSTART:20180311T100000
END:DAYLIGHT
BEGIN:STANDARD
TZOFFSETFROM:-0700
TZOFFSETTO:-0800
TZNAME:PST
DTSTART:20181104T090000
END:STANDARD
BEGIN:DAYLIGHT
TZOFFSETFROM:-0800
TZOFFSETTO:-0700
TZNAME:PDT
DTSTART:20190310T100000
END:DAYLIGHT
BEGIN:STANDARD
TZOFFSETFROM:-0700
TZOFFSETTO:-0800
TZNAME:PST
DTSTART:20191103T090000
END:STANDARD
BEGIN:DAYLIGHT
TZOFFSETFROM:-0800
TZOFFSETTO:-0700
TZNAME:PDT
DTSTART:20200308T100000
END:DAYLIGHT
BEGIN:STANDARD
TZOFFSETFROM:-0700
TZOFFSETTO:-0800
TZNAME:PST
DTSTART:20201101T090000
END:STANDARD
BEGIN:DAYLIGHT
TZOFFSETFROM:-0800
TZOFFSETTO:-0700
TZNAME:PDT
DTSTART:20210314T100000
END:DAYLIGHT
BEGIN:STANDARD
TZOFFSETFROM:-0700
TZOFFSETTO:-0800
TZNAME:PST
DTSTART:20211107T090000
END:STANDARD
END:VTIMEZONE
BEGIN:VEVENT
DTSTART;TZID=America/Los_Angeles:20200119T130000
DTEND;TZID=America/Los_Angeles:20200119T143000
DTSTAMP:20260424T094517
CREATED:20200102T005944Z
LAST-MODIFIED:20200102T005944Z
UID:1172-1579438800-1579444200@hoithanhkent.org
SUMMARY:Họp BCH / Decons meeting
DESCRIPTION:
URL:https://hoithanhkent.org/event/hop-bch-decons-meeting/
END:VEVENT
BEGIN:VEVENT
DTSTART;VALUE=DATE:20200112
DTEND;VALUE=DATE:20200113
DTSTAMP:20260424T094517
CREATED:20200105T033450Z
LAST-MODIFIED:20200106T032554Z
UID:1189-1578787200-1578873599@hoithanhkent.org
SUMMARY:Nộp Sổ Sách / Budget Report Due
DESCRIPTION:
URL:https://hoithanhkent.org/event/nop-so-sach-budget-report-due/
END:VEVENT
BEGIN:VEVENT
DTSTART;TZID=America/Los_Angeles:20200104T090000
DTEND;TZID=America/Los_Angeles:20200104T160000
DTSTAMP:20260424T094517
CREATED:20200102T003550Z
LAST-MODIFIED:20200102T003550Z
UID:1162-1578128400-1578153600@hoithanhkent.org
SUMMARY:Tu Sửa Phòng Học
DESCRIPTION:
URL:https://hoithanhkent.org/event/tu-sua-phong-hoc/
END:VEVENT
BEGIN:VEVENT
DTSTART;TZID=America/Los_Angeles:20200101T190000
DTEND;TZID=America/Los_Angeles:20200101T200000
DTSTAMP:20260424T094517
CREATED:20200102T003358Z
LAST-MODIFIED:20200102T010146Z
UID:1160-1577905200-1577908800@hoithanhkent.org
SUMMARY:Cầu Nguyện Đầu Năm / New Year Prayer
DESCRIPTION:
URL:https://hoithanhkent.org/event/cau-nguyen-dau-nam/
END:VEVENT
BEGIN:VEVENT
DTSTART;TZID=America/Los_Angeles:20191118T080000
DTEND;TZID=America/Los_Angeles:20191118T170000
DTSTAMP:20260424T094517
CREATED:20191119T074517Z
LAST-MODIFIED:20191121T061355Z
UID:967-1574064000-1574096400@hoithanhkent.org
SUMMARY:7 BƯỚC THĂNG TIẾN CỦA CHẤP SỰ
DESCRIPTION:Go back  Your message has been sent\n\n\n				\n					\n					\n				\n			\n\n\n\nName(required)\n\n \n			\n				\n					\n						\n						\n						\n					\n					Warning\n				\n				\n			 \n	\n\n\nEmail(required)\n\n \n			\n				\n					\n						\n						\n						\n					\n					Warning\n				\n				\n			 \n	\n\n\nWebsite\n\n \n			\n				\n					\n						\n						\n						\n					\n					Warning\n				\n				\n			 \n	\n\n\nMessage\n\n \n			\n				\n					\n						\n						\n						\n					\n					Warning\n				\n				\n			\n	\n	\nWarning.\n				\n				\n				\n					\n				\n						Submit		\n		\n		\n	 \nΔ \n\n\nGo back  Your message has been sent\n\n\n				\n					\n					\n				\n			\n\n\n\nName(required)\n\n \n			\n				\n					\n						\n						\n						\n					\n					Warning\n				\n				\n			 \n	\n\n\nEmail(required)\n\n \n			\n				\n					\n						\n						\n						\n					\n					Warning\n				\n				\n			 \n	\n\n\nWebsite\n\n \n			\n				\n					\n						\n						\n						\n					\n					Warning\n				\n				\n			 \n	\n\n\nMessage\n\n \n			\n				\n					\n						\n						\n						\n					\n					Warning\n				\n				\n			\n	\n	\nWarning.\n				\n				\n				\n					\n				\n						Submit		\n		\n		\n	 \nΔ \n\nhttps://hoithanhkent.org/wp-content/uploads/2019/11/7-BƯỚC-THĂNG-TIẾN-CỦA-CHẤP-SỰ.mp3
URL:https://hoithanhkent.org/event/967/
END:VEVENT
BEGIN:VEVENT
DTSTART;TZID=America/Los_Angeles:20191117T080000
DTEND;TZID=America/Los_Angeles:20191117T170000
DTSTAMP:20260424T094517
CREATED:20191118T060321Z
LAST-MODIFIED:20191118T060438Z
UID:939-1573977600-1574010000@hoithanhkent.org
SUMMARY:7 BƯỚC THĂNG TIẾN CỦA CHẤP SỰ
DESCRIPTION:https://hoithanhkent.org/wp-content/uploads/2019/11/7-buoc-thang-tien-cua-chap-su.mp3
URL:https://hoithanhkent.org/event/939/
END:VEVENT
BEGIN:VEVENT
DTSTART;TZID=America/Los_Angeles:20191117T080000
DTEND;TZID=America/Los_Angeles:20191117T170000
DTSTAMP:20260424T094517
CREATED:20191118T055621Z
LAST-MODIFIED:20191118T055621Z
UID:936-1573977600-1574010000@hoithanhkent.org
SUMMARY:
DESCRIPTION:https://hoithanhkent.org/wp-content/uploads/2019/11/7-buoc-thang-tien-cua-chap-su-1.mp3\n\nGo back  Your message has been sent\n\n\n				\n					\n					\n				\n			\n\n\n\nName(required)\n\n \n			\n				\n					\n						\n						\n						\n					\n					Warning\n				\n				\n			 \n	\n\n\nEmail(required)\n\n \n			\n				\n					\n						\n						\n						\n					\n					Warning\n				\n				\n			 \n	\n\n\nWebsite\n\n \n			\n				\n					\n						\n						\n						\n					\n					Warning\n				\n				\n			 \n	\n\n\nMessage\n\n \n			\n				\n					\n						\n						\n						\n					\n					Warning\n				\n				\n			\n	\n	\nWarning.\n				\n				\n				\n					\n				\n						Submit		\n		\n		\n	 \nΔ \n\n\nGo back  Your message has been sent\n\n\n				\n					\n					\n				\n			\n\n\n\nName(required)\n\n \n			\n				\n					\n						\n						\n						\n					\n					Warning\n				\n				\n			 \n	\n\n\nEmail(required)\n\n \n			\n				\n					\n						\n						\n						\n					\n					Warning\n				\n				\n			 \n	\n\n\nWebsite\n\n \n			\n				\n					\n						\n						\n						\n					\n					Warning\n				\n				\n			 \n	\n\n\nMessage\n\n \n			\n				\n					\n						\n						\n						\n					\n					Warning\n				\n				\n			\n	\n	\nWarning.\n				\n				\n				\n					\n				\n						Submit		\n		\n		\n	 \nΔ
URL:https://hoithanhkent.org/event/936/
END:VEVENT
END:VCALENDAR